{
 "currentVersion": 10.91,
 "cimVersion": "2.9.0",
 "serviceDescription": "",
 "mapName": "BaseMapAra_DarkGray_GCS",
 "description": "",
 "copyrightText": "",
 "supportsDynamicLayers": true,
 "layers": [
  {
   "id": 0,
   "name": "مسميات",
   "parentLayerId": -1,
   "defaultVisibility": true,
   "subLayerIds": [
    1,
    2,
    3,
    4,
    332,
    333,
    347,
    348,
    359
   ],
   "minScale": 0,
   "maxScale": 0,
   "type": "Group Layer",
   "supportsDynamicLegends": false
  },
  {
   "id": 1,
   "name": "معالم رئيسية",
   "parentLayerId": 0,
   "defaultVisibility": true,
   "subLayerIds": null,
   "minScale": 4800,
   "maxScale": 0,
   "type": "Feature Layer",
   "geometryType": "esriGeometryPoint",
   "supportsDynamicLegends": true
  },
  {
   "id": 2,
   "name": "مسميات المعالم الرئيسية - مقياس رسم 9 آلاف",
   "parentLayerId": 0,
   "defaultVisibility": true,
   "subLayerIds": null,
   "minScale": 10000,
   "maxScale": 7999,
   "type": "Feature Layer",
   "geometryType": "esriGeometryPoint",
   "supportsDynamicLegends": true
  },
  {
   "id": 3,
   "name": "مسميات العناوين - مقياس رسم 2 آلاف",
   "parentLayerId": 0,
   "defaultVisibility": true,
   "subLayerIds": null,
   "minScale": 3000,
   "maxScale": 0,
   "type": "Feature Layer",
   "geometryType": "esriGeometryPoint",
   "supportsDynamicLegends": true
  },
  {
   "id": 4,
   "name": "مسميات الأماكن المأهوله",
   "parentLayerId": 0,
   "defaultVisibility": true,
   "subLayerIds": [
    5,
    326,
    328,
    330,
    331
   ],
   "minScale": 0,
   "maxScale": 0,
   "type": "Group Layer",
   "supportsDynamicLegends": false
  },
  {
   "id": 5,
   "name": "مسميات العواصم - مقياس رسم 1 مليون",
   "parentLayerId": 4,
   "defaultVisibility": true,
   "subLayerIds": [
    325
   ],
   "minScale": 2000000,
   "maxScale": 1500000,
   "type": "Annotation Layer",
   "geometryType": "esriGeometryPolygon",
   "supportsDynamicLegends": false
  },
  {
   "id": 325,
   "name": "مسميات العواصم - مقياس رسم 1 مليون",
   "parentLayerId": 5,
   "defaultVisibility": true,
   "subLayerIds": null,
   "minScale": 2000000,
   "maxScale": 0,
   "supportsDynamicLegends": false
  },
  {
   "id": 326,
   "name": "مسميات العواصم - مقياس رسم 2 مليون",
   "parentLayerId": 4,
   "defaultVisibility": true,
   "subLayerIds": [
    327
   ],
   "minScale": 3000000,
   "maxScale": 2000000,
   "type": "Annotation Layer",
   "geometryType": "esriGeometryPolygon",
   "supportsDynamicLegends": false
  },
  {
   "id": 327,
   "name": "مسميات العواصم - مقياس رسم 2 مليون",
   "parentLayerId": 326,
   "defaultVisibility": true,
   "subLayerIds": null,
   "minScale": 4000000,
   "maxScale": 2000000,
   "supportsDynamicLegends": false
  },
  {
   "id": 328,
   "name": "مسميات العواصم - مقياس رسم 4 ملايين",
   "parentLayerId": 4,
   "defaultVisibility": true,
   "subLayerIds": [
    329
   ],
   "minScale": 5000000,
   "maxScale": 3000000,
   "type": "Annotation Layer",
   "geometryType": "esriGeometryPolygon",
   "supportsDynamicLegends": false
  },
  {
   "id": 329,
   "name": "مسميات العواصم - مقياس رسم 4 ملايين",
   "parentLayerId": 328,
   "defaultVisibility": true,
   "subLayerIds": null,
   "minScale": 0,
   "maxScale": 4000000,
   "supportsDynamicLegends": false
  },
  {
   "id": 330,
   "name": "مسميات الأماكن المأهوله - مقياس رسم 500 ألف",
   "parentLayerId": 4,
   "defaultVisibility": true,
   "subLayerIds": null,
   "minScale": 1000000,
   "maxScale": 500000,
   "type": "Feature Layer",
   "geometryType": "esriGeometryPoint",
   "supportsDynamicLegends": true
  },
  {
   "id": 331,
   "name": "مسميات الأماكن المأهوله - مقياس رسم 4.6 مليون",
   "parentLayerId": 4,
   "defaultVisibility": true,
   "subLayerIds": null,
   "minScale": 5000000,
   "maxScale": 1000000,
   "type": "Feature Layer",
   "geometryType": "esriGeometryPoint",
   "supportsDynamicLegends": true
  },
  {
   "id": 333,
   "name": "مسميات الحدود والتقسيمات الإدارية",
   "parentLayerId": 0,
   "defaultVisibility": true,
   "subLayerIds": [
    334,
    335,
    336,
    337,
    338,
    339,
    341,
    344,
    345,
    346
   ],
   "minScale": 0,
   "maxScale": 0,
   "type": "Group Layer",
   "supportsDynamicLegends": false
  },
  {
   "id": 339,
   "name": "مسميات البلديات - مقياس رسم 1 مليون",
   "parentLayerId": 333,
   "defaultVisibility": true,
   "subLayerIds": [
    340
   ],
   "minScale": 2000000,
   "maxScale": 1000000,
   "type": "Annotation Layer",
   "geometryType": "esriGeometryPolygon",
   "supportsDynamicLegends": false
  },
  {
   "id": 340,
   "name": "مسميات البلديات - مقياس رسم 1 مليون",
   "parentLayerId": 339,
   "defaultVisibility": true,
   "subLayerIds": null,
   "minScale": 0,
   "maxScale": 0,
   "supportsDynamicLegends": false
  },
  {
   "id": 341,
   "name": "مسميات البلديات - مقياس رسم 2 مليون",
   "parentLayerId": 333,
   "defaultVisibility": true,
   "subLayerIds": [
    343
   ],
   "minScale": 3000000,
   "maxScale": 2000000,
   "type": "Annotation Layer",
   "geometryType": "esriGeometryPolygon",
   "supportsDynamicLegends": false
  },
  {
   "id": 343,
   "name": "مسميات البلديات - مقياس رسم 2 مليون",
   "parentLayerId": 341,
   "defaultVisibility": true,
   "subLayerIds": null,
   "minScale": 3000000,
   "maxScale": 2000000,
   "supportsDynamicLegends": false
  },
  {
   "id": 344,
   "name": "مسميات الدولة - مقياس رسم 4.6 مليون",
   "parentLayerId": 333,
   "defaultVisibility": true,
   "subLayerIds": null,
   "minScale": 4999999,
   "maxScale": 3000000,
   "type": "Feature Layer",
   "geometryType": "esriGeometryPolygon",
   "supportsDynamicLegends": true
  },
  {
   "id": 345,
   "name": "مسميات الدولة - مقياس رسم 9 ملايين",
   "parentLayerId": 333,
   "defaultVisibility": true,
   "subLayerIds": null,
   "minScale": 20000000,
   "maxScale": 5000000,
   "type": "Feature Layer",
   "geometryType": "esriGeometryPolygon",
   "supportsDynamicLegends": true
  },
  {
   "id": 346,
   "name": "مسميات الدول المجاورة",
   "parentLayerId": 333,
   "defaultVisibility": true,
   "subLayerIds": null,
   "minScale": 20000000,
   "maxScale": 10000,
   "type": "Feature Layer",
   "geometryType": "esriGeometryPolygon",
   "supportsDynamicLegends": true
  },
  {
   "id": 347,
   "name": "مسميات البحار والمحيطات",
   "parentLayerId": 0,
   "defaultVisibility": true,
   "subLayerIds": null,
   "minScale": 20000000,
   "maxScale": 100000,
   "type": "Feature Layer",
   "geometryType": "esriGeometryPolygon",
   "supportsDynamicLegends": true
  },
  {
   "id": 348,
   "name": "مسميات الطرق السريعة",
   "parentLayerId": 0,
   "defaultVisibility": true,
   "subLayerIds": [
    349,
    350,
    351,
    352,
    353,
    354,
    355,
    356,
    357,
    358
   ],
   "minScale": 0,
   "maxScale": 0,
   "type": "Group Layer",
   "supportsDynamicLegends": false
  },
  {
   "id": 349,
   "name": "مسميات الشوارع - مقياس رسم 2 ألف",
   "parentLayerId": 348,
   "defaultVisibility": true,
   "subLayerIds": null,
   "minScale": 2500,
   "maxScale": 0,
   "type": "Feature Layer",
   "geometryType": "esriGeometryPolyline",
   "supportsDynamicLegends": true
  },
  {
   "id": 350,
   "name": "مسميات الشوارع - مقياس رسم 4 آلاف",
   "parentLayerId": 348,
   "defaultVisibility": true,
   "subLayerIds": null,
   "minScale": 5000,
   "maxScale": 2501,
   "type": "Feature Layer",
   "geometryType": "esriGeometryPolyline",
   "supportsDynamicLegends": true
  },
  {
   "id": 351,
   "name": "مسميات الشوارع - مقياس رسم 9 آلاف",
   "parentLayerId": 348,
   "defaultVisibility": true,
   "subLayerIds": null,
   "minScale": 9500,
   "maxScale": 4801,
   "type": "Feature Layer",
   "geometryType": "esriGeometryPolyline",
   "supportsDynamicLegends": true
  },
  {
   "id": 352,
   "name": "مسميات الشوارع - مقياس رسم 18 ألف",
   "parentLayerId": 348,
   "defaultVisibility": true,
   "subLayerIds": null,
   "minScale": 20000,
   "maxScale": 9501,
   "type": "Feature Layer",
   "geometryType": "esriGeometryPolyline",
   "supportsDynamicLegends": true
  },
  {
   "id": 354,
   "name": "مسميات الشوارع الرئيسية - مقياس رسم 4 آلاف",
   "parentLayerId": 348,
   "defaultVisibility": true,
   "subLayerIds": null,
   "minScale": 5000,
   "maxScale": 0,
   "type": "Feature Layer",
   "geometryType": "esriGeometryPolyline",
   "supportsDynamicLegends": true
  },
  {
   "id": 355,
   "name": "مسميات الشوارع الرئيسية - مقياس رسم 18 ألف",
   "parentLayerId": 348,
   "defaultVisibility": true,
   "subLayerIds": null,
   "minScale": 20000,
   "maxScale": 5000,
   "type": "Feature Layer",
   "geometryType": "esriGeometryPolyline",
   "supportsDynamicLegends": true
  },
  {
   "id": 356,
   "name": "مسميات الشوارع الرئيسية - مقياس رسم 72 ألف",
   "parentLayerId": 348,
   "defaultVisibility": true,
   "subLayerIds": null,
   "minScale": 100000,
   "maxScale": 20000,
   "type": "Feature Layer",
   "geometryType": "esriGeometryPolyline",
   "supportsDynamicLegends": true
  },
  {
   "id": 357,
   "name": "مسميات الشوارع الرئيسية - مقياس رسم 144 ألف",
   "parentLayerId": 348,
   "defaultVisibility": true,
   "subLayerIds": null,
   "minScale": 200000,
   "maxScale": 100000,
   "type": "Feature Layer",
   "geometryType": "esriGeometryPolyline",
   "supportsDynamicLegends": true
  },
  {
   "id": 358,
   "name": "مسميات الشوارع الرئيسية - مقياس رسم 2 مليون",
   "parentLayerId": 348,
   "defaultVisibility": true,
   "subLayerIds": null,
   "minScale": 3000000,
   "maxScale": 200000,
   "type": "Feature Layer",
   "geometryType": "esriGeometryPolyline",
   "supportsDynamicLegends": true
  },
  {
   "id": 359,
   "name": "المطارات",
   "parentLayerId": 0,
   "defaultVisibility": true,
   "subLayerIds": [
    360,
    361
   ],
   "minScale": 0,
   "maxScale": 0,
   "type": "Group Layer",
   "supportsDynamicLegends": false
  },
  {
   "id": 360,
   "name": "المطارات - مقياس رسم 500 ألف",
   "parentLayerId": 359,
   "defaultVisibility": true,
   "subLayerIds": null,
   "minScale": 1000000,
   "maxScale": 100000,
   "type": "Feature Layer",
   "geometryType": "esriGeometryPoint",
   "supportsDynamicLegends": true
  },
  {
   "id": 361,
   "name": "المطارات - مقياس رسم 2 مليون",
   "parentLayerId": 359,
   "defaultVisibility": true,
   "subLayerIds": null,
   "minScale": 3000000,
   "maxScale": 1000000,
   "type": "Feature Layer",
   "geometryType": "esriGeometryPoint",
   "supportsDynamicLegends": true
  },
  {
   "id": 362,
   "name": "العناصر",
   "parentLayerId": -1,
   "defaultVisibility": true,
   "subLayerIds": [
    363,
    367,
    373,
    374,
    375,
    384,
    385,
    386,
    387,
    410,
    411
   ],
   "minScale": 0,
   "maxScale": 0,
   "type": "Group Layer",
   "supportsDynamicLegends": false
  },
  {
   "id": 363,
   "name": "الأشجار والشجيرات",
   "parentLayerId": 362,
   "defaultVisibility": true,
   "subLayerIds": [
    364,
    365,
    366
   ],
   "minScale": 0,
   "maxScale": 0,
   "type": "Group Layer",
   "supportsDynamicLegends": false
  },
  {
   "id": 367,
   "name": "حوائط_بوابات_و_أسوار",
   "parentLayerId": 362,
   "defaultVisibility": true,
   "subLayerIds": [
    368,
    369,
    370,
    371,
    372
   ],
   "minScale": 9500,
   "maxScale": 0,
   "type": "Group Layer",
   "supportsDynamicLegends": false
  },
  {
   "id": 375,
   "name": "المباني",
   "parentLayerId": 362,
   "defaultVisibility": true,
   "subLayerIds": [
    376,
    377,
    378,
    379,
    380,
    381,
    382,
    383
   ],
   "minScale": 200000,
   "maxScale": 0,
   "type": "Group Layer",
   "supportsDynamicLegends": false
  },
  {
   "id": 384,
   "name": "العواصم - مقياس رسم 4.6 مليون",
   "parentLayerId": 362,
   "defaultVisibility": true,
   "subLayerIds": null,
   "minScale": 5000000,
   "maxScale": 2000000,
   "type": "Feature Layer",
   "geometryType": "esriGeometryPoint",
   "supportsDynamicLegends": true
  },
  {
   "id": 385,
   "name": "الأماكن المعروفة - مقياس رسم 4.6 مليون",
   "parentLayerId": 362,
   "defaultVisibility": true,
   "subLayerIds": null,
   "minScale": 5000000,
   "maxScale": 2000000,
   "type": "Feature Layer",
   "geometryType": "esriGeometryPoint",
   "supportsDynamicLegends": true
  },
  {
   "id": 387,
   "name": "الطرق السريعة",
   "parentLayerId": 362,
   "defaultVisibility": true,
   "subLayerIds": [
    388,
    389,
    390,
    391,
    392,
    393,
    394,
    395,
    396,
    397,
    398,
    399,
    400,
    401,
    402,
    403,
    404,
    405,
    406,
    407,
    408,
    409
   ],
   "minScale": 0,
   "maxScale": 0,
   "type": "Group Layer",
   "supportsDynamicLegends": false
  },
  {
   "id": 394,
   "name": "منتصف الطريق - العنونة - مقياس رسم 8 آلاف",
   "parentLayerId": 387,
   "defaultVisibility": true,
   "subLayerIds": null,
   "minScale": 20000,
   "maxScale": 0,
   "type": "Feature Layer",
   "geometryType": "esriGeometryPolyline",
   "supportsDynamicLegends": true
  },
  {
   "id": 395,
   "name": "الطرق الرئيسية - مقياس رسم 36 ألف",
   "parentLayerId": 387,
   "defaultVisibility": true,
   "subLayerIds": null,
   "minScale": 50000,
   "maxScale": 5000,
   "type": "Feature Layer",
   "geometryType": "esriGeometryPolyline",
   "supportsDynamicLegends": true
  },
  {
   "id": 396,
   "name": "الطرق الرئيسية - مقياس رسم 72 ألف",
   "parentLayerId": 387,
   "defaultVisibility": true,
   "subLayerIds": null,
   "minScale": 100000,
   "maxScale": 50000,
   "type": "Feature Layer",
   "geometryType": "esriGeometryPolyline",
   "supportsDynamicLegends": true
  },
  {
   "id": 397,
   "name": "الطرق الرئيسية - مقياس رسم 577 ألف",
   "parentLayerId": 387,
   "defaultVisibility": true,
   "subLayerIds": null,
   "minScale": 1000000,
   "maxScale": 100000,
   "type": "Feature Layer",
   "geometryType": "esriGeometryPolyline",
   "supportsDynamicLegends": true
  },
  {
   "id": 398,
   "name": "االطرق الرئيسية - مقياس رسم 1 مليون",
   "parentLayerId": 387,
   "defaultVisibility": true,
   "subLayerIds": null,
   "minScale": 2000000,
   "maxScale": 1000000,
   "type": "Feature Layer",
   "geometryType": "esriGeometryPolyline",
   "supportsDynamicLegends": true
  },
  {
   "id": 399,
   "name": "الطرق الرئيسية - مقياس رسم 2 مليون",
   "parentLayerId": 387,
   "defaultVisibility": true,
   "subLayerIds": null,
   "minScale": 3000000,
   "maxScale": 2000000,
   "type": "Feature Layer",
   "geometryType": "esriGeometryPolyline",
   "supportsDynamicLegends": true
  },
  {
   "id": 407,
   "name": "الطرق الدولية - مقياس رسم 577 ألف",
   "parentLayerId": 387,
   "defaultVisibility": true,
   "subLayerIds": null,
   "minScale": 1000000,
   "maxScale": 500000,
   "type": "Feature Layer",
   "geometryType": "esriGeometryPolyline",
   "supportsDynamicLegends": true
  },
  {
   "id": 408,
   "name": "الطرق الدولية - مقياس رسم 1 مليون",
   "parentLayerId": 387,
   "defaultVisibility": true,
   "subLayerIds": null,
   "minScale": 2000000,
   "maxScale": 1000000,
   "type": "Feature Layer",
   "geometryType": "esriGeometryPolyline",
   "supportsDynamicLegends": true
  },
  {
   "id": 409,
   "name": "الطرق الدولية - مقياس رسم 2 مليون",
   "parentLayerId": 387,
   "defaultVisibility": true,
   "subLayerIds": null,
   "minScale": 3000000,
   "maxScale": 2000000,
   "type": "Feature Layer",
   "geometryType": "esriGeometryPolyline",
   "supportsDynamicLegends": true
  },
  {
   "id": 411,
   "name": "المباني",
   "parentLayerId": 362,
   "defaultVisibility": true,
   "subLayerIds": [
    412,
    413
   ],
   "minScale": 200000,
   "maxScale": 0,
   "type": "Group Layer",
   "supportsDynamicLegends": false
  },
  {
   "id": 414,
   "name": "الأرض و المياه",
   "parentLayerId": -1,
   "defaultVisibility": true,
   "subLayerIds": [
    434
   ],
   "minScale": 0,
   "maxScale": 0,
   "type": "Group Layer",
   "supportsDynamicLegends": false
  },
  {
   "id": 434,
   "name": "خلفية",
   "parentLayerId": 414,
   "defaultVisibility": true,
   "subLayerIds": [
    435,
    437
   ],
   "minScale": 0,
   "maxScale": 0,
   "type": "Group Layer",
   "supportsDynamicLegends": false
  },
  {
   "id": 435,
   "name": "المياه المفتوحة",
   "parentLayerId": 434,
   "defaultVisibility": true,
   "subLayerIds": [
    436
   ],
   "minScale": 0,
   "maxScale": 0,
   "type": "Group Layer",
   "supportsDynamicLegends": false
  },
  {
   "id": 436,
   "name": "البحار والمحيطات - مقياس رسم 9 ملايين",
   "parentLayerId": 435,
   "defaultVisibility": true,
   "subLayerIds": null,
   "minScale": 20000000,
   "maxScale": 4000000,
   "type": "Feature Layer",
   "geometryType": "esriGeometryPolygon",
   "supportsDynamicLegends": true
  },
  {
   "id": 437,
   "name": "الإمارات العربية المتحدة",
   "parentLayerId": 434,
   "defaultVisibility": true,
   "subLayerIds": [
    438,
    460
   ],
   "minScale": 0,
   "maxScale": 0,
   "type": "Group Layer",
   "supportsDynamicLegends": false
  },
  {
   "id": 438,
   "name": "الإمارات العربية المتحدة",
   "parentLayerId": 437,
   "defaultVisibility": true,
   "subLayerIds": [
    439,
    449,
    450,
    451,
    452,
    453,
    454,
    455,
    456,
    457,
    458,
    459
   ],
   "minScale": 0,
   "maxScale": 0,
   "type": "Group Layer",
   "supportsDynamicLegends": false
  },
  {
   "id": 439,
   "name": "المناطق الحضرية",
   "parentLayerId": 438,
   "defaultVisibility": true,
   "subLayerIds": [
    440,
    441,
    442,
    443
   ],
   "minScale": 2000000,
   "maxScale": 100000,
   "type": "Group Layer",
   "supportsDynamicLegends": false
  },
  {
   "id": 440,
   "name": "المناطق المأهولة - مقياس رسم 144 ألف",
   "parentLayerId": 439,
   "defaultVisibility": true,
   "subLayerIds": null,
   "minScale": 200000,
   "maxScale": 100000,
   "type": "Feature Layer",
   "geometryType": "esriGeometryPolygon",
   "supportsDynamicLegends": true
  },
  {
   "id": 441,
   "name": "المناطق المأهولة - مقياس رسم 288 ألف",
   "parentLayerId": 439,
   "defaultVisibility": true,
   "subLayerIds": null,
   "minScale": 500000,
   "maxScale": 200000,
   "type": "Feature Layer",
   "geometryType": "esriGeometryPolygon",
   "supportsDynamicLegends": true
  },
  {
   "id": 442,
   "name": "المناطق المأهولة - مقياس رسم 500 ألف",
   "parentLayerId": 439,
   "defaultVisibility": true,
   "subLayerIds": null,
   "minScale": 1000000,
   "maxScale": 500000,
   "type": "Feature Layer",
   "geometryType": "esriGeometryPolygon",
   "supportsDynamicLegends": true
  },
  {
   "id": 443,
   "name": "المناطق المأهولة - مقياس رسم 1 مليون",
   "parentLayerId": 439,
   "defaultVisibility": true,
   "subLayerIds": null,
   "minScale": 2000000,
   "maxScale": 1000000,
   "type": "Feature Layer",
   "geometryType": "esriGeometryPolygon",
   "supportsDynamicLegends": true
  },
  {
   "id": 450,
   "name": "الإمارات العربية المتحدة - مقياس رسم 4 آلاف",
   "parentLayerId": 438,
   "defaultVisibility": true,
   "subLayerIds": null,
   "minScale": 5000,
   "maxScale": 0,
   "type": "Feature Layer",
   "geometryType": "esriGeometryPolygon",
   "supportsDynamicLegends": true
  },
  {
   "id": 452,
   "name": "الإمارات العربية المتحدة - مقياس رسم 9 آلاف",
   "parentLayerId": 438,
   "defaultVisibility": true,
   "subLayerIds": null,
   "minScale": 10000,
   "maxScale": 5000,
   "type": "Feature Layer",
   "geometryType": "esriGeometryPolygon",
   "supportsDynamicLegends": true
  },
  {
   "id": 454,
   "name": "الإمارات العربية المتحدة - مقياس رسم 72 ألف",
   "parentLayerId": 438,
   "defaultVisibility": true,
   "subLayerIds": null,
   "minScale": 100000,
   "maxScale": 10000,
   "type": "Feature Layer",
   "geometryType": "esriGeometryPolygon",
   "supportsDynamicLegends": true
  },
  {
   "id": 456,
   "name": "الإمارات العربية المتحدة - مقياس رسم 144 ألف",
   "parentLayerId": 438,
   "defaultVisibility": true,
   "subLayerIds": null,
   "minScale": 200000,
   "maxScale": 100000,
   "type": "Feature Layer",
   "geometryType": "esriGeometryPolygon",
   "supportsDynamicLegends": true
  },
  {
   "id": 458,
   "name": "الإمارات العربية المتحدة - مقياس رسم صغير",
   "parentLayerId": 438,
   "defaultVisibility": true,
   "subLayerIds": null,
   "minScale": 20000000,
   "maxScale": 200000,
   "type": "Feature Layer",
   "geometryType": "esriGeometryPolygon",
   "supportsDynamicLegends": true
  },
  {
   "id": 459,
   "name": "الأراضي - مقياس رسم 2 مليون",
   "parentLayerId": 438,
   "defaultVisibility": true,
   "subLayerIds": null,
   "minScale": 0,
   "maxScale": 0,
   "type": "Feature Layer",
   "geometryType": "esriGeometryPolygon",
   "supportsDynamicLegends": true
  },
  {
   "id": 460,
   "name": "الدول المجاورة",
   "parentLayerId": 437,
   "defaultVisibility": true,
   "subLayerIds": null,
   "minScale": 20000000,
   "maxScale": 0,
   "type": "Feature Layer",
   "geometryType": "esriGeometryPolygon",
   "supportsDynamicLegends": true
  }
 ],
 "tables": [],
 "spatialReference": {
  "wkid": 4326,
  "latestWkid": 4326,
  "xyTolerance": 8.983152841195215E-9,
  "zTolerance": 0.001,
  "mTolerance": 0.001,
  "falseX": -400,
  "falseY": -400,
  "xyUnits": 9.999999999999999E8,
  "falseZ": -100000,
  "zUnits": 10000,
  "falseM": -100000,
  "mUnits": 10000
 },
 "singleFusedMapCache": true,
 "tileInfo": {
  "rows": 256,
  "cols": 256,
  "dpi": 96,
  "format": "JPEG",
  "compressionQuality": 75,
  "origin": {
   "x": -400,
   "y": 400
  },
  "spatialReference": {
   "wkid": 4326,
   "latestWkid": 4326,
   "xyTolerance": 8.983152841195215E-9,
   "zTolerance": 0.001,
   "mTolerance": 0.001,
   "falseX": -400,
   "falseY": -400,
   "xyUnits": 1.125899906842624E13,
   "falseZ": -100000,
   "zUnits": 10000,
   "falseM": -100000,
   "mUnits": 10000
  },
  "lods": [
   {
    "level": 0,
    "resolution": 0.011897305029151402,
    "scale": 5000000
   },
   {
    "level": 1,
    "resolution": 0.005948652514575701,
    "scale": 2500000
   },
   {
    "level": 2,
    "resolution": 0.0029743262572878505,
    "scale": 1250000
   },
   {
    "level": 3,
    "resolution": 0.00118973050291514,
    "scale": 500000
   },
   {
    "level": 4,
    "resolution": 5.9486525145757E-4,
    "scale": 250000
   },
   {
    "level": 5,
    "resolution": 2.97432625728785E-4,
    "scale": 125000
   },
   {
    "level": 6,
    "resolution": 1.7845957543727103E-4,
    "scale": 75000
   },
   {
    "level": 7,
    "resolution": 1.1897305029151401E-4,
    "scale": 50000
   },
   {
    "level": 8,
    "resolution": 5.9486525145757005E-5,
    "scale": 25000
   },
   {
    "level": 9,
    "resolution": 3.5691915087454204E-5,
    "scale": 15000
   },
   {
    "level": 10,
    "resolution": 1.903568804664224E-5,
    "scale": 8000
   },
   {
    "level": 11,
    "resolution": 9.51784402332112E-6,
    "scale": 4000
   },
   {
    "level": 12,
    "resolution": 4.75892201166056E-6,
    "scale": 2000
   },
   {
    "level": 13,
    "resolution": 2.37946100583028E-6,
    "scale": 1000
   }
  ]
 },
 "storageInfo": {
  "storageFormat": "esriMapCacheStorageModeCompactV2",
  "packetSize": 128
 },
 "initialExtent": {
  "xmin": 51.15561132287583,
  "ymin": 21.93647015758091,
  "xmax": 56.95243213146155,
  "ymax": 26.812849824262816,
  "spatialReference": {
   "wkid": 4326,
   "latestWkid": 4326,
   "xyTolerance": 8.983152841195215E-9,
   "zTolerance": 0.001,
   "mTolerance": 0.001,
   "falseX": -400,
   "falseY": -400,
   "xyUnits": 9.999999999999999E8,
   "falseZ": -100000,
   "zUnits": 10000,
   "falseM": -100000,
   "mUnits": 10000
  }
 },
 "fullExtent": {
  "xmin": 51.08217187006436,
  "ymin": 21.93647015758091,
  "xmax": 57.02587158427302,
  "ymax": 26.812849824262816,
  "spatialReference": {
   "wkid": 4326,
   "latestWkid": 4326,
   "xyTolerance": 8.983152841195215E-9,
   "zTolerance": 0.001,
   "mTolerance": 0.001,
   "falseX": -400,
   "falseY": -400,
   "xyUnits": 9.999999999999999E8,
   "falseZ": -100000,
   "zUnits": 10000,
   "falseM": -100000,
   "mUnits": 10000
  }
 },
 "datesInUnknownTimezone": false,
 "minScale": 5000000,
 "maxScale": 1000,
 "units": "esriDecimalDegrees",
 "supportedImageFormatTypes": "PNG32,PNG24,PNG,JPG,DIB,TIFF,EMF,PS,PDF,GIF,SVG,SVGZ,BMP",
