View In:
ArcGIS JavaScript
ArcGIS Online Map Viewer
ArcGIS Earth
ArcMap
ArcGIS Pro
View Footprint In:
ArcGIS Online Map Viewer
Service Description: The ‘BaseMapAra_LightGray_WM’ service is considered as one of the main Basemaps for the Emirate of Abu Dhabi with a Projected Coordinate System (PCS) of Web Mercator. The service was symbolized with a light gray, neutral background style and Arabic labels, and supported by a long list of authoritative Fundamental Geospatial Data Sets (FGDS) about the Emirate such as Emirate's Boundary, Municipalities’ Jurisdictional Areas, International Boundaries with both KSA and Oman, Oasis Boundaries, Points of Interests, Cities, Airports, Sea Ports, Roads, Bridges, Hydrographic Features, Vegetation Areas, Building Extents, Walls & Sustaining Walls, and Fences. Moreover, other external sources were used for data sets about the Boundaries of Continents and other Nations.
Map Name: BaseMapAra_LightGray_WM
Legend
All Layers and Tables
Dynamic Legend
Dynamic All Layers
Layers:
Description: The ‘BaseMapAra_LightGray_WM’ service is considered as one of the main Basemaps for the Emirate of Abu Dhabi with a Projected Coordinate System (PCS) of Web Mercator. The service was symbolized with a light gray, neutral background style and Arabic labels, and supported by a long list of authoritative Fundamental Geospatial Data Sets (FGDS) about the Emirate such as Emirate's Boundary, Municipalities’ Jurisdictional Areas, International Boundaries with both KSA and Oman, Oasis Boundaries, Points of Interests, Cities, Airports, Sea Ports, Roads, Bridges, Hydrographic Features, Vegetation Areas, Building Extents, Walls & Sustaining Walls, and Fences. Moreover, other external sources were used for data sets about the Boundaries of Continents and other Nations.
Copyright Text: Copyright:© 2020 AD-SDI, DMT
Spatial Reference:
102100
(3857)
Single Fused Map Cache: true
Tile Info:
- Height: 256
- Width: 256
- DPI: 96
-
Levels of Detail: 24
-
Level ID: 0
[ Start Tile, End Tile ]
- Resolution: 156543.03392800014
- Scale: 5.91657527591555E8
-
Level ID: 1
[ Start Tile, End Tile ]
- Resolution: 78271.51696399994
- Scale: 2.95828763795777E8
-
Level ID: 2
[ Start Tile, End Tile ]
- Resolution: 39135.75848200009
- Scale: 1.47914381897889E8
-
Level ID: 3
[ Start Tile, End Tile ]
- Resolution: 19567.87924099992
- Scale: 7.3957190948944E7
-
Level ID: 4
[ Start Tile, End Tile ]
- Resolution: 9783.93962049996
- Scale: 3.6978595474472E7
-
Level ID: 5
[ Start Tile, End Tile ]
- Resolution: 4891.96981024998
- Scale: 1.8489297737236E7
- Format: PNG
- Compression Quality: 0.0
- Origin: X: -2.0037508342787E7
Y: 2.0037508342787E7
- Spatial Reference: 102100
(3857)
Storage Info:
- Storage Format: esriMapCacheStorageModeCompactV2
- Packet Size: 128
Initial Extent:
XMin: 6047669.736520134
YMin: 2721328.093021712
XMax: 6095595.753254876
YMax: 2782095.5305083455
Spatial Reference: 102100
Full Extent:
XMin: 5325700.717080825
YMin: 2040562.059974531
XMax: 6693807.918668281
YMax: 3149791.082524317
Spatial Reference: 102100
Units: esriMeters
Supported Image Format Types: PNG32,PNG24,PNG,JPG,DIB,TIFF,EMF,PS,PDF,GIF,SVG,SVGZ,BMP
Document Info:
Title: Basemap Arabic Light Gray Cavas
Author:
Comments: The ‘BaseMapAra_LightGray_WM’ service is considered as one of the main Basemaps for the Emirate of Abu Dhabi with a Projected Coordinate System (PCS) of Web Mercator. The service was symbolized with a light gray, neutral background style and Arabic labels, and supported by a long list of authoritative Fundamental Geospatial Data Sets (FGDS) about the Emirate such as Emirate's Boundary, Municipalities’ Jurisdictional Areas, International Boundaries with both KSA and Oman, Oasis Boundaries, Points of Interests, Cities, Airports, Sea Ports, Roads, Bridges, Hydrographic Features, Vegetation Areas, Building Extents, Walls & Sustaining Walls, and Fences. Moreover, other external sources were used for data sets about the Boundaries of Continents and other Nations.
Subject: The ‘BaseMapAra_LightGray_WM’ service is considered as one of the main Basemaps for the Emirate of Abu Dhabi
Category:
Keywords: Basemap,Vector,Light Gray,Canvas,Arabic
AntialiasingMode: None
TextAntialiasingMode: Force
Supports Dynamic Layers: true
MaxRecordCount: 1000
MaxImageHeight: 4096
MaxImageWidth: 4096
Supported Query Formats: JSON, geoJSON, PBF
Supports Query Data Elements: true
Min Scale: 5.91657527591555E8
Max Scale: 70.5310735
Supports Datum Transformation: true
Child Resources:
Info
Dynamic Layer
Supported Operations:
Export Map
QueryLegends
EstimateExportTilesSize
ExportTiles
Return Updates