View In:
ArcGIS JavaScript
ArcGIS Online Map Viewer
ArcGIS Earth
ArcMap
ArcGIS Pro
View Footprint In:
ArcGIS Online Map Viewer
Service Description: The 'IMG_SAT_50CM_WM' service presents an imagery captured by "Worldview -2" satellite between 2013 to 2014 and some parts in 2016, with a coverage area limited to the United Arab Emirates, and a Projected Coordinate System (PCS) of Web Mercator. The source imagery (the raw data) has eight spectral bands including coastal, blues, green, yellow, red, red edge, NIR-1 and NIR-2, and the swath width is 16.4KM at nadir with a dynamic range of 11bits per pixel. The spatial resolution of the raw data is 50CM (Panchromatic) and 1.84M (Multispectral).
Map Name: IMG_SAT_50CM_WM
Legend
All Layers and Tables
Dynamic Legend
Dynamic All Layers
Layers:
Description:
Copyright Text: Copyright:© 2018 AD-SDI
Spatial Reference:
102100
(3857)
Single Fused Map Cache: true
Tile Info:
- Height: 256
- Width: 256
- DPI: 96
-
Levels of Detail: 24
-
Level ID: 0
[ Start Tile, End Tile ]
- Resolution: 156543.03392800014
- Scale: 5.91657527591555E8
-
Level ID: 1
[ Start Tile, End Tile ]
- Resolution: 78271.51696399994
- Scale: 2.95828763795777E8
-
Level ID: 2
[ Start Tile, End Tile ]
- Resolution: 39135.75848200009
- Scale: 1.47914381897889E8
-
Level ID: 3
[ Start Tile, End Tile ]
- Resolution: 19567.87924099992
- Scale: 7.3957190948944E7
-
Level ID: 4
[ Start Tile, End Tile ]
- Resolution: 9783.93962049996
- Scale: 3.6978595474472E7
-
Level ID: 5
[ Start Tile, End Tile ]
- Resolution: 4891.96981024998
- Scale: 1.8489297737236E7
- Format: JPEG
- Compression Quality: 75.0
- Origin: X: -2.0037508342787E7
Y: 2.0037508342787E7
- Spatial Reference: 102100
(3857)
Initial Extent:
XMin: 5621715.626441716
YMin: 2608579.223420623
XMax: 6397793.009307389
YMax: 2969812.6105110594
Spatial Reference: 102100
(3857)
Full Extent:
XMin: 5325700.717080825
YMin: 2040562.059974531
XMax: 6693807.918668281
YMax: 3149791.082524317
Spatial Reference: 102100
(3857)
Units: esriMeters
Supported Image Format Types: PNG32,PNG24,PNG,JPG,DIB,TIFF,EMF,PS,PDF,GIF,SVG,SVGZ,BMP
Document Info:
Title: Basemap Satellite Imagery 50CM
Author: AD-SDI | Geospatial Services Management
Comments: The 'IMG_SAT_50CM_WM' service presents an imagery captured by "Worldview -2" satellite between 2013 to 2014 and some parts in 2016, with a coverage area limited to the United Arab Emirates, and a Projected Coordinate System (PCS) of Web Mercator. The source imagery (the raw data) has eight spectral bands including coastal, blues, green, yellow, red, red edge, NIR-1 and NIR-2, and the swath width is 16.4KM at nadir with a dynamic range of 11bits per pixel. The spatial resolution of the raw data is 50CM (Panchromatic) and 1.84M (Multispectral).
Subject: Basemap Satellite Imagery 50CM
Category:
Keywords: Basemap,Satellite,Imagery
AntialiasingMode: None
TextAntialiasingMode: Force
Supports Dynamic Layers: true
Resampling: false
MaxRecordCount: 1000
MaxImageHeight: 4096
MaxImageWidth: 4096
Supported Query Formats: JSON, geoJSON
Supports Query Data Elements:
Min Scale: 9244648.868618
Max Scale: 1128.497176
Supports Datum Transformation: true
Child Resources:
Info
Dynamic Layer
Supported Operations:
Export Map
Identify
QueryLegends
QueryDomains
Find
Return Updates